BEGIN:VCALENDAR
VERSION:2.0
PRODID:-//Vilano Beach - ECPv6.15.20//NONSGML v1.0//EN
CALSCALE:GREGORIAN
METHOD:PUBLISH
X-ORIGINAL-URL:https://www.vilanobeachfl.com
X-WR-CALDESC:Events for Vilano Beach
REFRESH-INTERVAL;VALUE=DURATION:PT1H
X-Robots-Tag:noindex
X-PUBLISHED-TTL:PT1H
BEGIN:VTIMEZONE
TZID:America/New_York
BEGIN:DAYLIGHT
TZOFFSETFROM:-0500
TZOFFSETTO:-0400
TZNAME:EDT
DTSTART:20250309T070000
END:DAYLIGHT
BEGIN:STANDARD
TZOFFSETFROM:-0400
TZOFFSETTO:-0500
TZNAME:EST
DTSTART:20251102T060000
END:STANDARD
BEGIN:DAYLIGHT
TZOFFSETFROM:-0500
TZOFFSETTO:-0400
TZNAME:EDT
DTSTART:20260308T070000
END:DAYLIGHT
BEGIN:STANDARD
TZOFFSETFROM:-0400
TZOFFSETTO:-0500
TZNAME:EST
DTSTART:20261101T060000
END:STANDARD
BEGIN:DAYLIGHT
TZOFFSETFROM:-0500
TZOFFSETTO:-0400
TZNAME:EDT
DTSTART:20270314T070000
END:DAYLIGHT
BEGIN:STANDARD
TZOFFSETFROM:-0400
TZOFFSETTO:-0500
TZNAME:EST
DTSTART:20271107T060000
END:STANDARD
END:VTIMEZONE
BEGIN:VEVENT
DTSTART;TZID=America/New_York:20260328T080000
DTEND;TZID=America/New_York:20260328T120000
DTSTAMP:20260420T180233
CREATED:20240215T181723Z
LAST-MODIFIED:20260310T130733Z
UID:10000713-1774684800-1774699200@www.vilanobeachfl.com
SUMMARY:Vilano Bridge Run
DESCRIPTION:Vilano Bridge Run 5K & 10K: “Come to Run\, Stay to Play”\nEvent: Vilano Bridge 5K & 10K Run\nDate: Saturday\, March 28\, 2026\nTime: 5K & 10K at 8 AM\, 1 Mile Family Fun Run immediately after.\nLocation: 120 Meadow Ave\, St Augustine\, FL 32084 \nCelebrating 29 years\, the Vilano Bridge Run invites runners and families to enjoy scenic\,\nofficially timed 5K and 10K courses beginning at the Vilano Beach Community Center and Park.\nBoth the 5K and 10K routes wind through the picturesque Vilano Beach community\, crossing\nthe iconic Vilano Bridge with sweeping views of the Intracoastal Waterway and surrounding\nbeaches. The 10K course continues through the beautiful grounds of the Florida School for the\nDeaf & Blind campus. \nAll races conclude at North Shores Community Park\, where participants can enjoy a lively\npost-race celebration featuring food\, music\, and community fun. Age-group awards will be\npresented\, and medals will be awarded to all 5K and 10K finishers. Runners will also receive\nsnacks and drinks after the race. Colorful T-shirts are guaranteed for those who register by\nMarch 8th. Immediately following the 5K is the 1-Mile Fun Run\, with medals for all finishers.\nThe celebration continues with a “Party in the Park\,” offering music\, food and items for\npurchase\, plus games and activities for kids. Families are warmly welcome to join the fun.\nThis community event supports North Shores community projects and donates a portion of the\nregistration proceeds to the Florida School for the Deaf & Blind. \nRegistration Link: https://1stplacesports.com/races/vilanobridgerun/
URL:https://www.vilanobeachfl.com/event/vilano-bridge-run/
LOCATION:North Shores Community Center\, 120 Meadow Ave\, St. Augustine\, FL\, 32084\, United States
GEO:29.9242205;-81.296448
X-APPLE-STRUCTURED-LOCATION;VALUE=URI;X-ADDRESS=North Shores Community Center 120 Meadow Ave St. Augustine FL 32084 United States;X-APPLE-RADIUS=500;X-TITLE=120 Meadow Ave:geo:-81.296448,29.9242205
END:VEVENT
END:VCALENDAR